BEGIN:VCALENDAR
VERSION:2.0
PRODID:-//Margaret Thelma International School - ECPv6.11.2//NONSGML v1.0//EN
CALSCALE:GREGORIAN
METHOD:PUBLISH
X-WR-CALNAME:Margaret Thelma International School
X-ORIGINAL-URL:https://www.margaretthelmaschool.org
X-WR-CALDESC:Events for Margaret Thelma International School
REFRESH-INTERVAL;VALUE=DURATION:PT1H
X-Robots-Tag:noindex
X-PUBLISHED-TTL:PT1H
BEGIN:VTIMEZONE
TZID:Africa/Lagos
BEGIN:STANDARD
TZOFFSETFROM:+0100
TZOFFSETTO:+0100
TZNAME:WAT
DTSTART:20210101T000000
END:STANDARD
END:VTIMEZONE
BEGIN:VEVENT
DTSTART;TZID=Africa/Lagos:20210120T073000
DTEND;TZID=Africa/Lagos:20210120T140000
DTSTAMP:20260423T153107
CREATED:20210118T120104Z
LAST-MODIFIED:20210118T120244Z
UID:10000002-1611127800-1611151200@www.margaretthelmaschool.org
SUMMARY:Commencement of Learning Activities
DESCRIPTION:
URL:https://www.margaretthelmaschool.org/event/commencement-of-learning-activities/
ATTACH;FMTTYPE=image/jpeg:https://www.margaretthelmaschool.org/wp-content/uploads/2020/10/calendar-event-image-1-margaret-thelma-international-school.jpg
END:VEVENT
BEGIN:VEVENT
DTSTART;TZID=Africa/Lagos:20210120T073000
DTEND;TZID=Africa/Lagos:20210120T140000
DTSTAMP:20260423T153107
CREATED:20210118T115804Z
LAST-MODIFIED:20210118T121035Z
UID:10000001-1611127800-1611151200@www.margaretthelmaschool.org
SUMMARY:School Resumption
DESCRIPTION:
URL:https://www.margaretthelmaschool.org/event/school-resumption/
ATTACH;FMTTYPE=image/jpeg:https://www.margaretthelmaschool.org/wp-content/uploads/2020/10/calendar-event-image-1-margaret-thelma-international-school.jpg
END:VEVENT
END:VCALENDAR